BEGIN:VCALENDAR
PRODID:-//eluceo/ical//2.0/EN
VERSION:2.0
CALSCALE:GREGORIAN
BEGIN:VEVENT
UID:99da3562-980c-43fd-b047-9c08afe553fc
DTSTAMP:20260424T214701Z
LAST-MODIFIED:20260424T101506Z
SUMMARY:Hausmesse bei BAM.wohnen 2026
DESCRIPTION:Veranstalter: BAM Wohnen\, Neue Landstraße 37\, 4655 Vorchdorf
URL:https://www.vorchdorfonline.at/termin/hausmesse-bei-bamwohnen-2026
DTSTART;TZID=Europe/Vienna:20260523T100000
DTEND;TZID=Europe/Vienna:20260523T170000
LOCATION:BAM Wohnen\, Neue Landstraße 37\, 4655 Vorchdorf
END:VEVENT
END:VCALENDAR
