BEGIN:VCALENDAR
PRODID:-//eluceo/ical//2.0/EN
VERSION:2.0
CALSCALE:GREGORIAN
BEGIN:VEVENT
UID:2a54e7cb-824c-4a50-94e2-a51049276cd4
DTSTAMP:20260423T175740Z
LAST-MODIFIED:20260423T075831Z
SUMMARY:Schulkonzert: Quer durchs musikalische Gemüsebeet 2026
DESCRIPTION:Veranstalter: VS Vorchdorf und LMS Vorchdorf
URL:https://www.vorchdorfonline.at/termin/schulkonzert-quer-durchs-musikali
 sche-gemuesebeet-2026
DTSTART;TZID=Europe/Vienna:20260528T170000
DTEND;TZID=Europe/Vienna:20260528T170000
LOCATION:Kitzmantelfabrik Vorchdorf
END:VEVENT
END:VCALENDAR
