BEGIN:VCALENDAR
PRODID:-//eluceo/ical//2.0/EN
VERSION:2.0
CALSCALE:GREGORIAN
BEGIN:VEVENT
UID:59738d78-7268-492c-b624-225b72ae15c0
DTSTAMP:20260423T174834Z
LAST-MODIFIED:20260423T075205Z
SUMMARY:Aperitivo GARDEN 2026
DESCRIPTION:Veranstalter: Freundeskreis Kulturverein
URL:https://www.vorchdorfonline.at/termin/aperitivo-garden-2026
DTSTART;TZID=Europe/Vienna:20260613T150000
DTEND;TZID=Europe/Vienna:20260613T210000
LOCATION:Kulturvilla Park Vorchdorf
END:VEVENT
END:VCALENDAR
