BEGIN:VCALENDAR
PRODID:-//eluceo/ical//2.0/EN
VERSION:2.0
CALSCALE:GREGORIAN
BEGIN:VEVENT
UID:8bfa522f-a1a8-4ad4-826a-42fd7611a23c
DTSTAMP:20260423T222406Z
LAST-MODIFIED:20260423T074502Z
SUMMARY:Vielfalt statt Einheitsbrei 2026
DESCRIPTION:Veranstalter: Weltaden Vorchdorf
URL:https://www.vorchdorfonline.at/termin/vielfalt-statt-einheitsbrei-2026
DTSTART;TZID=Europe/Vienna:20260508T150000
DTEND;TZID=Europe/Vienna:20260508T150000
LOCATION:Weltladen Vorchdorf\, Schloßplatz 2
END:VEVENT
END:VCALENDAR
