BEGIN:VCALENDAR
PRODID:-//eluceo/ical//2.0/EN
VERSION:2.0
CALSCALE:GREGORIAN
BEGIN:VEVENT
UID:78b1162d-dc26-4fc2-9074-f31ac883453a
DTSTAMP:20260422T193537Z
LAST-MODIFIED:20260422T113025Z
SUMMARY:Start TANZ MIT! Zumba®Andrea 2026
DESCRIPTION:Veranstalter: Zumba®Andrea
URL:https://www.vorchdorfonline.at/termin/start-tanz-mit-zumbarandrea-2026-
 0
DTSTART;TZID=Europe/Vienna:20260423T000000
DTEND;TZID=Europe/Vienna:20260513T235900
LOCATION:Pfarrsaal Vorchdorf
END:VEVENT
END:VCALENDAR
