BEGIN:VCALENDAR
PRODID:-//eluceo/ical//2.0/EN
VERSION:2.0
CALSCALE:GREGORIAN
BEGIN:VEVENT
UID:de2c5408-653f-4abf-94f8-e45a333a629d
DTSTAMP:20260422T192754Z
LAST-MODIFIED:20260422T112721Z
SUMMARY:Tanz mit Zumba®Andrea - kids 9 - 12 Jahre 2026
DESCRIPTION:Veranstalter: Zumba®Andrea
URL:https://www.vorchdorfonline.at/termin/tanz-mit-zumbarandrea-kids-9-12-j
 ahre-2026-0
DTSTART;TZID=Europe/Vienna:20260423T161500
DTEND;TZID=Europe/Vienna:20260513T170000
LOCATION:Pfarrsaal Vorchdorf
END:VEVENT
END:VCALENDAR
