BEGIN:VCALENDAR
PRODID:-//eluceo/ical//2.0/EN
VERSION:2.0
CALSCALE:GREGORIAN
BEGIN:VEVENT
UID:161bfbc1-08de-4ba5-91b9-0218df16e834
DTSTAMP:20260422T184408Z
LAST-MODIFIED:20260420T083600Z
SUMMARY:SING! Konzert der Musik-Mittelschule Vorchdorf 2026
DESCRIPTION:Veranstalter: Musik-Mittelschule Vorchdorf
URL:https://www.vorchdorfonline.at/termin/sing-konzert-der-musik-mittelschu
 le-vorchdorf-2026
DTSTART;TZID=Europe/Vienna:20260520T190000
DTEND;TZID=Europe/Vienna:20260520T190000
LOCATION:Kitzmantelfabrik Vorchdorf
END:VEVENT
END:VCALENDAR
