BEGIN:VCALENDAR
PRODID:-//eluceo/ical//2.0/EN
VERSION:2.0
CALSCALE:GREGORIAN
BEGIN:VEVENT
UID:3fe6251b-ff18-432d-a674-150bc912f5b6
DTSTAMP:20260419T142310Z
LAST-MODIFIED:20260414T062349Z
SUMMARY:Musik in vollen Zügen
DESCRIPTION:Veranstalter: Gesellschaft der Musikfreunde Gmunden
URL:https://www.vorchdorfonline.at/termin/musik-vollen-zuegen-gmunden-2026
DTSTART;TZID=Europe/Vienna:20260514T193000
DTEND;TZID=Europe/Vienna:20260514T223000
LOCATION:Remise 1894\, Alois-Kaltenbrunnerstraße 47\, 4810 Gmunden
END:VEVENT
END:VCALENDAR
